Workbook

Sheet INQUIRY FORM
B1: =_xlfn.DISPIMG("ID_5B8D430FE88045F9998C1E46FF6CA6B3",1) -> =DISPIMG("ID_5B8D430FE88045F9998C1E46FF6CA6B3",1)
E2: Form No./表单编号： | F2: =IF(F9="","","KT-"&_xlfn.CONCAT(_wpsfn.REGEXP(F9,"\d+"))&"-"&TEXT(NOW(),"hhmm")&"-"&TEXT(COUNTIF($F$9:F9,F9),"00"))
B3: KUNTO GLOBAL - BULK ORDER & INQUIRY FORM 深圳市坤拓环宇国际贸易有限公司 / 大宗采购与询价单 | E3: Customer No./客户编号： | F3: =IF($F$5="","",IF(F1048575<>"",F1048575,UPPER(LEFT(SUBSTITUTE($F$5," ",""),4))&"-"&TEXT(NOW(),"yymmdd-hhmm")))
B5: Company Name： 公司名称: | E5: Contact Person： 联系人:
B7: Business Email ： 商务邮箱: | E7: WhatsApp / WeChat:
B9: Destination： 目的地： | E9: Order Date: 订单日期：
B11: Model (型号) | C11: Product Image (产品图片) | D11: Description & Key Features (产品描述与核心卖点) | E11: Available Colors & Surface Treatments （可选颜色与表面处理 ） | F11: Logistics Data & Packaging (装箱物流参数) | G11: Order Qty (采购数量)
B12: MQ978 19in1 (Solid black) | C12: =_xlfn.XLOOKUP(B12,'Product Data'!A:A,'Product Data'!B:B,"") -> =DISPIMG("ID_2C76958615924C0781B5B701603C77ED",1) | D12: =_xlfn.XLOOKUP(B12,'Product Data'!A:A,'Product Data'!C:C,"") -> • 19-in-1 Pro-Tactical Multi-Pliers • Core: 5Cr15 Blade & Scissors + Safety Lock • Features Replaceable Carbide Wire Cutters & Safety | E12: =_xlfn.XLOOKUP(B12,'Product Data'!A:A,'Product Data'!D:D,"") -> • Colors Available: Black / Blue / White / Grey • Premium black oxidized finish on components & handle | F12: =_xlfn.XLOOKUP(B12,'Product Data'!A:A,'Product Data'!E:E,"") -> • Net Weight：280 g / pc • Gross Weight：427 g / pc • Quantity per Export Carton：40 pcs / carton • Total Carton Gross Weight：17.0 kg • Carton Dimension (L×W×H)：32.5 × 29.5 × 28 cm
B13: MQ090 19in1 (Original Stainless Steel) | C13: =_xlfn.XLOOKUP(B13,'Product Data'!A:A,'Product Data'!B:B,"") -> =DISPIMG("ID_3301F209676E4C66B596108DA08A07F3",1) | D13: =_xlfn.XLOOKUP(B13,'Product Data'!A:A,'Product Data'!C:C,"") -> • Heavy-Duty Wild Survival Master (19-in-1) • Integrated striking hammer head & carabiner clip • Built-in wire stripper, leather puncher, saw & hex wrench | E13: =_xlfn.XLOOKUP(B13,'Product Data'!A:A,'Product Data'!D:D,"") -> • Handle: Premium High-Strength Full Stainless Steel Skeleton Frame • Finish: Clean satin raw stainless steel finish with premium wear-resistant industrial sandblasting | F13: =_xlfn.XLOOKUP(B13,'Product Data'!A:A,'Product Data'!E:E,"") -> • Net Weight：450 g / pc • Gross Weight：595 g / pc • Quantity per Export Carton：40 pcs / carton • Total Carton Gross Weight：24.8 kg • Carton Dimension (L×W×H)：32.5 × 29.5 × 28 cm | G13: Select row 13 Alt+↓ inserts row below
C14: =_xlfn.XLOOKUP(B14,'Product Data'!A:A,'Product Data'!B:B,"") -> 0 | D14: =_xlfn.XLOOKUP(B14,'Product Data'!A:A,'Product Data'!C:C,"") -> 0 | E14: =_xlfn.XLOOKUP(B14,'Product Data'!A:A,'Product Data'!D:D,"") -> 0 | F14: =_xlfn.XLOOKUP(B14,'Product Data'!A:A,'Product Data'!E:E,"") -> 0
C15: =_xlfn.XLOOKUP(B15,'Product Data'!A:A,'Product Data'!B:B,"") -> 0 | D15: =_xlfn.XLOOKUP(B15,'Product Data'!A:A,'Product Data'!C:C,"") -> 0 | E15: =_xlfn.XLOOKUP(B15,'Product Data'!A:A,'Product Data'!D:D,"") -> 0 | F15: =_xlfn.XLOOKUP(B15,'Product Data'!A:A,'Product Data'!E:E,"") -> 0
B16: ——————————————————————————————— www.kuntoglobal.com ———————————————————————————————
B18: Special Instructions & Notes / 客户特殊要求备注栏： | F18: Customization Options (For Bulk Orders) 大宗定制选项 (选填):
B23: Packaging & Customization / 包装与定制说明 Standard Configuration: By default, shipments follow our premium factory standard configurations: heavy-duty woven bags, Oxford/color paper boxes, and plier series include the standard screwdriver bit set. (默认配置出厂：如无特殊定制要求，出货商品规格均按工厂标准配置发货：普通编织袋、牛津纸盒/彩盒，且钳类产品均标配有批头组。) Important Notes / 核心采购须知 Quantity-Based Pricing: Please ensure the "Order Qty" is filled. Our wholesale/bulk prices are strictly calculated based on your final purchase volume. (请务必填写目标数量。我们的批发大宗价格是严格根据您的采购数量来进行梯度报价的。) How to Submit / 如何提交表单 Please save this completed Excel file and send it to us via Email, WhatsApp, or WeChat: (请保存此填写完毕的 Excel 文件，并通过邮件、WhatsApp 或微信发送给我们：) Email: kuntoglobal@gmail.com WhatsApp: +86 188 2529 4513 WeChat: solooper
A30: KUNTO GLOBAL | Shenzhen Kunto Global International Trade Co., Ltd. | www.kuntoglobal.com

Sheet Product Data
A1: Model (型号) | B1: Product Image (产品图片) | C1: Description & Key Features (产品描述与核心卖点) | D1: Available Colors & Surface Treatments （可选颜色与表面处理 ） | E1: Logistics Data & Packaging (装箱物流参数)
A2: MULTI-FUNCTIONAL TOOL (PLIERS)
A3: MQ978 19in1 (Solid black) | B3: =_xlfn.DISPIMG("ID_2C76958615924C0781B5B701603C77ED",1) -> =DISPIMG("ID_2C76958615924C0781B5B701603C77ED",1) | C3: • 19-in-1 Pro-Tactical Multi-Pliers • Core: 5Cr15 Blade & Scissors + Safety Lock • Features Replaceable Carbide Wire Cutters & Safety | D3: • Colors Available: Black / Blue / White / Grey • Premium black oxidized finish on components & handle | E3: • Net Weight：280 g / pc • Gross Weight：427 g / pc • Quantity per Export Carton：40 pcs / carton • Total Carton Gross Weight：17.0 kg • Carton Dimension (L×W×H)：32.5 × 29.5 × 28 cm | F3: 旗舰产品 Heavy-Duty & Full-Featured
A4: MQ978 19in1 (Blue) | B4: =_xlfn.DISPIMG("ID_88F85CE36A914CE4979AE9B4AC38F919",1) -> =DISPIMG("ID_88F85CE36A914CE4979AE9B4AC38F919",1) | C4: • 19-in-1 Pro-Tactical Multi-Pliers • Core: 5Cr15 Blade & Scissors + Safety Lock • Features Replaceable Carbide Wire Cutters & Safety | D4: • Colors Available: Black / Blue / White / Grey • Premium black oxidized finish on components & handle | E4: • Net Weight：280 g / pc • Gross Weight：427 g / pc • Quantity per Export Carton：40 pcs / carton • Total Carton Gross Weight：17.0 kg • Carton Dimension (L×W×H)：32.5 × 29.5 × 28 cm
A5: MQ978 19in1 (White) | B5: =_xlfn.DISPIMG("ID_0804335FFD6A4F5EA6D495F340829D9F",1) -> =DISPIMG("ID_0804335FFD6A4F5EA6D495F340829D9F",1) | C5: • 19-in-1 Pro-Tactical Multi-Pliers • Core: 5Cr15 Blade & Scissors + Safety Lock • Features Replaceable Carbide Wire Cutters & Safety | D5: • Colors Available: Black / Blue / White / Grey • Premium black oxidized finish on components & handle | E5: • Net Weight：280 g / pc • Gross Weight：427 g / pc • Quantity per Export Carton：40 pcs / carton • Total Carton Gross Weight：17.0 kg • Carton Dimension (L×W×H)：32.5 × 29.5 × 28 cm
A6: MQ978 19in1 (Grey) | B6: =_xlfn.DISPIMG("ID_095DFC16EEED4460B32404CE1FFB9991",1) -> =DISPIMG("ID_095DFC16EEED4460B32404CE1FFB9991",1) | C6: • 19-in-1 Pro-Tactical Multi-Pliers • Core: 5Cr15 Blade & Scissors + Safety Lock • Features Replaceable Carbide Wire Cutters & Safety | D6: • Colors Available: Black / Blue / White / Grey • Premium black oxidized finish on components & handle | E6: • Net Weight：280 g / pc • Gross Weight：427 g / pc • Quantity per Export Carton：40 pcs / carton • Total Carton Gross Weight：17.0 kg • Carton Dimension (L×W×H)：32.5 × 29.5 × 28 cm
A7: MQ090 19in1 (Original Stainless Steel) | B7: =_xlfn.DISPIMG("ID_3301F209676E4C66B596108DA08A07F3",1) -> =DISPIMG("ID_3301F209676E4C66B596108DA08A07F3",1) | C7: • Heavy-Duty Wild Survival Master (19-in-1) • Integrated striking hammer head & carabiner clip • Built-in wire stripper, leather puncher, saw & hex wrench | D7: • Handle: Premium High-Strength Full Stainless Steel Skeleton Frame • Finish: Clean satin raw stainless steel finish with premium wear-resistant industrial sandblasting | E7: • Net Weight：450 g / pc • Gross Weight：595 g / pc • Quantity per Export Carton：40 pcs / carton • Total Carton Gross Weight：24.8 kg • Carton Dimension (L×W×H)：32.5 × 29.5 × 28 cm
A8: MQ090-1 19in1 (Black) | B8: =_xlfn.DISPIMG("ID_9EE70CC72B624A3E9A415510072C6900",1) -> =DISPIMG("ID_9EE70CC72B624A3E9A415510072C6900",1) | C8: • Heavy-Duty Wild Survival Master (19-in-1) • Integrated striking hammer head & carabiner clip • Built-in wire stripper, leather puncher, saw & hex wrench | D8: • Handle: Two-Tone Style (Tactical Black Oxidized Handle Frame paired with Silver Core Implements) • Finish: Contrast design featuring deep black handle scale protection with original satin stainless steel tools | E8: • Net Weight：450 g / pc • Gross Weight：595 g / pc • Quantity per Export Carton：40 pcs / carton • Total Carton Gross Weight：24.8 kg • Carton Dimension (L×W×H)：32.5 × 29.5 × 28 cm
A9: MQ090F 19in1 (Solid black) | B9: =_xlfn.DISPIMG("ID_D46F7984EA4342FAB62D05ED051A0991",1) -> =DISPIMG("ID_D46F7984EA4342FAB62D05ED051A0991",1) | C9: • Heavy-Duty Wild Survival Master (19-in-1) • Integrated striking hammer head & carabiner clip • Built-in wire stripper, leather puncher, saw & hex wrench | D9: • Handle: Complete Stealth Tactical Full Black Oxidized Stainless Steel Handle Frame • Finish: Uniform corrosion-resistant deep black oxidation treated thoroughly across all inner tools & chassis | E9: • Net Weight：450 g / pc • Gross Weight：595 g / pc • Quantity per Export Carton：40 pcs / carton • Total Carton Gross Weight：24.8 kg • Carton Dimension (L×W×H)：32.5 × 29.5 × 28 cm
A10: MQ090F-1 19in1 (Red & Black) | B10: =_xlfn.DISPIMG("ID_02D40BFF75F748DCAA25890E9E7C02A0",1) -> =DISPIMG("ID_02D40BFF75F748DCAA25890E9E7C02A0",1) | C10: • Heavy-Duty Wild Survival Master (19-in-1) • Integrated striking hammer head & carabiner clip • Built-in wire stripper, leather puncher, saw & hex wrench | D10: • Handle: High-Contrast Red and Black Distinctive Handle Scales Group • Finish: Premium dual-color sport styling handle accents paired with tactical black oxidized components | E10: • Net Weight：450 g / pc • Gross Weight：595 g / pc • Quantity per Export Carton：40 pcs / carton • Total Carton Gross Weight：24.8 kg • Carton Dimension (L×W×H)：32.5 × 29.5 × 28 cm
A11: MQ090S 19in1 (Battle-worn Grey) | B11: =_xlfn.DISPIMG("ID_11D0BA6F64F04243B19E04842137BDE2",1) -> =DISPIMG("ID_11D0BA6F64F04243B19E04842137BDE2",1) | C11: • Heavy-Duty Wild Survival Master (19-in-1) • Integrated striking hammer head & carabiner clip • Built-in wire stripper, leather puncher, saw & hex wrench | D11: • Handle: Industrial Rugged Battle-Worn Grey Coated Stainless Steel Handle • Finish: Full uniform battle-worn grey texturing applied on all components, core mechanics, and handle frame | E11: • Net Weight：450 g / pc • Gross Weight：595 g / pc • Quantity per Export Carton：40 pcs / carton • Total Carton Gross Weight：24.8 kg • Carton Dimension (L×W×H)：32.5 × 29.5 × 28 cm
A12: MQ063F 19in1 (Solid black) | B12: =_xlfn.DISPIMG("ID_9C31A85EC3EE479DBF769CA38B8502B6",1) -> =DISPIMG("ID_9C31A85EC3EE479DBF769CA38B8502B6",1) | C12: • 19-in-1 Industrial Tactical Pliers • Features replaceable pliers, rope cutter & full-size scissors • Multi-size screwdrivers (3/4/5mm) & integrated belt clip | D12: • Black • Black oxidized ss handle & components | E12: • Net Weight：339 g / pc • Gross Weight：465 g / pc • Quantity per Export Carton：40 pcs / carton • Total Carton Gross Weight：19.4 kg • Carton Dimension (L×W×H)：32.5 × 29.5 × 28 cm
A13: MQ034 11in1 (Black) | B13: =_xlfn.DISPIMG("ID_50329BB904984B8D935F22B6461FFD3A",1) -> =DISPIMG("ID_50329BB904984B8D935F22B6461FFD3A",1) | C13: • Tactical Bushcraft & Emergency Multi-Tool • Features hidden ferrocerium rod & emergency whistle • Heavy-duty 5Cr15 blade and pliers for outdoor survival | D13: • Black • Black oxidized ss handle & components | E13: • Net Weight：315 g / pc • Gross Weight：445 g / pc • Quantity per Export Carton：40 pcs / carton • Total Carton Gross Weight：18.0 kg • Carton Dimension (L×W×H)：32.5 × 29.5 × 28 cm | F13: Tactical & Bushcraft 硬核战术与丛林生存系列
A14: MQ038 12in1 (Black) | B14: =_xlfn.DISPIMG("ID_1A5103859A774801868DBB777C3D05E1",1) -> =DISPIMG("ID_1A5103859A774801868DBB777C3D05E1",1) | C14: • Lightweight Non-Slip Survival Pliers • Premium anodized aluminum handle with fire starter & whistle • Aggressive double-teeth saw for high-efficiency cutting | D14: • Anodized aluminum with sandblasting handle • Provides comfortable, non-slip, and anti-freezing grip | E14: • Net Weight：315 g / pc • Gross Weight：445 g / pc • Quantity per Export Carton：40 pcs / carton • Total Carton Gross Weight：18.0 kg • Carton Dimension (L×W×H)：32.5 × 29.5 × 28 cm
A15: MQ039 11in1 (Black) | B15: =_xlfn.DISPIMG("ID_A2558CC0441C4E4C94AC7079FF7EE17C",1) -> =DISPIMG("ID_A2558CC0441C4E4C94AC7079FF7EE17C",1) | C15: • Premium Glamping & Leisure Multi-Tool • Features built-in corkscrew for wine bottles & large scissors • Durable 2Cr13 stainless components with double-teeth saw | D15: • Anodized aluminum with sandblasting handle • Modern dual-material handle with high-end digital aesthetic | E15: • Net Weight：315 g / pc • Gross Weight：445 g / pc • Quantity per Export Carton：40 pcs / carton • Total Carton Gross Weight：18.0 kg • Carton Dimension (L×W×H)：32.5 × 29.5 × 28 cm
A16: MQ062 17in1 (Battle-worn Grey) | B16: =_xlfn.DISPIMG("ID_FAA6730E394343B4B869859F4F0DEE99",1) -> =DISPIMG("ID_FAA6730E394343B4B869859F4F0DEE99",1) | C16: • 17-in-1 Tactical EDC Pliers with Belt Clip • Features replaceable pliers, seatbelt cutter & full scissors • Multi-size slotted screwdrivers (3mm/4mm/5mm) & metal file | D16: • Battle-worn Grey • Unique battle-worn grey coating on handle & components | E16: • Net Weight：280 g / pc • Gross Weight：427 g / pc • Quantity per Export Carton：40 pcs / carton • Total Carton Gross Weight：17.0 kg • Carton Dimension (L×W×H)：32.5 × 29.5 × 28 cm | F16: Tactical EDC & Commuting 全能日常与高效自驾系列
A17: MQ062 17in1 (Original Stainless Steel) | B17: =_xlfn.DISPIMG("ID_56D62A297C2E494C8396DE5C46B7CA22",1) -> =DISPIMG("ID_56D62A297C2E494C8396DE5C46B7CA22",1) | C17: • 17-in-1 Tactical EDC Pliers with Belt Clip • Features replaceable pliers, seatbelt cutter & full scissors • Multi-size slotted screwdrivers (3mm/4mm/5mm) & metal file | D17: • Original Stainless Steel Handle+ Original Steel Components • Unique battle-worn grey coating on handle & components | E17: • Net Weight：280 g / pc • Gross Weight：427 g / pc • Quantity per Export Carton：40 pcs / carton • Total Carton Gross Weight：17.0 kg • Carton Dimension (L×W×H)：32.5 × 29.5 × 28 cm
A18: MQ062F 17in1 (Solid black) | B18: =_xlfn.DISPIMG("ID_B29A767B740A4761984F4B9DAA6F766B",1) -> =DISPIMG("ID_B29A767B740A4761984F4B9DAA6F766B",1) | C18: • 17-in-1 Matte Black Tactical Pliers • Features replaceable pliers, safety rope cutter & belt clip • Professional reamer/punch, can opener & multi-drivers | D18: • Black • Matte black oxidized non-reflective tactical finish | E18: • Net Weight：280 g / pc • Gross Weight：427 g / pc • Quantity per Export Carton：40 pcs / carton • Total Carton Gross Weight：17.0 kg • Carton Dimension (L×W×H)：32.5 × 29.5 × 28 cm
A19: MQ067 16in1 (Original Stainless Steel) | B19: =_xlfn.DISPIMG("ID_41DE357006D546D5AFED76E7498BEBCD",1) -> =DISPIMG("ID_41DE357006D546D5AFED76E7498BEBCD",1) | C19: • 16-in-1 Mechanical Original Multi-Tool • Streamlined high-durability structure without belt clip • Premium 5Cr15 blade & scissors with reverse metal file | D19: • Original Stainless Steel • Fine polished original stainless steel handle & components | E19: • Net Weight：280 g / pc • Gross Weight：427 g / pc • Quantity per Export Carton：40 pcs / carton • Total Carton Gross Weight：17.0 kg • Carton Dimension (L×W×H)：32.5 × 29.5 × 28 cm
A20: MQ067-1 16in1 (Black) | B20: =_xlfn.DISPIMG("ID_DED2F9EA55364FBAB01ABD9A1C2F2F89",1) -> =DISPIMG("ID_DED2F9EA55364FBAB01ABD9A1C2F2F89",1) | C20: • 16-in-1 Dual-Tone E-Commerce Hot Style • High-contrast design perfect for Amazon/AliExpress visuals • Features replaceable pliers, saw, scissors & 4 drivers | D20: • Two-Tone: Original Steel Components + Black Handle • Striking visual contrast with high feature visibility | E20: • Net Weight：280 g / pc • Gross Weight：427 g / pc • Quantity per Export Carton：40 pcs / carton • Total Carton Gross Weight：17.0 kg • Carton Dimension (L×W×H)：32.5 × 29.5 × 28 cm
A21: MQ067F 16in1 (Solid black) | B21: =_xlfn.DISPIMG("ID_8A1F2C102CCE4E46A536C510E04DB9B3",1) -> =DISPIMG("ID_8A1F2C102CCE4E46A536C510E04DB9B3",1) | C21: • 16-in-1 Tactical Minimalist Multi-Pliers • Balanced 13x7.5cm golden size for perfect handling • Features 5Cr15 steel components, rope cutter & reamer | D21: • Full Black • Fully black oxidized surface for hardcore stealth aesthetic | E21: • Net Weight：280 g / pc • Gross Weight：427 g / pc • Quantity per Export Carton：40 pcs / carton • Total Carton Gross Weight：17.0 kg • Carton Dimension (L×W×H)：32.5 × 29.5 × 28 cm
A22: MQ071 17in1 (Blue) | B22: =_xlfn.DISPIMG("ID_2904D605356C44FE95A2A4B7EB145879",1) -> =DISPIMG("ID_2904D605356C44FE95A2A4B7EB145879",1) | C22: • 17-in-1 Tech-Style Max Configuration • Maximum utility with 4 screwdrivers & independent belt clip • Robust 5Cr15 blade & scissors with integrated reverse ruler | D22: • Blue Handle + Original Steel Components • Dynamic blue anodized accent for a modern tech/outdoor look | E22: • Net Weight：280 g / pc • Gross Weight：427 g / pc • Quantity per Export Carton：40 pcs / carton • Total Carton Gross Weight：17.0 kg • Carton Dimension (L×W×H)：32.5 × 29.5 × 28 cm
A23: MQ071 17in1 (Original Stainless Steel) | B23: =_xlfn.DISPIMG("ID_EE0613DCE79D4823B0DA2F5B88DB2986",1) -> =DISPIMG("ID_EE0613DCE79D4823B0DA2F5B88DB2986",1) | C23: • 17-in-1 Tech-Style Max Configuration • Maximum utility with 4 screwdrivers & independent belt clip • Robust 5Cr15 blade & scissors with integrated reverse ruler | D23: • Original Stainless Steel Handle+ Original Steel Components • Dynamic blue anodized accent for a modern tech/outdoor look | E23: • Net Weight：280 g / pc • Gross Weight：427 g / pc • Quantity per Export Carton：40 pcs / carton • Total Carton Gross Weight：17.0 kg • Carton Dimension (L×W×H)：32.5 × 29.5 × 28 cm
A24: MQ071-1 17in1 (Blue) | B24: =_xlfn.DISPIMG("ID_663A2AC62F6B4D3B9ADC3B0B19957BDC",1) -> =DISPIMG("ID_663A2AC62F6B4D3B9ADC3B0B19957BDC",1) | C24: • 17-in-1 Corporate & Professional Multi-Tool • Full-spec 18-function configuration with rugged belt clip • Features replaceable pliers, wood saw, file & can opener | D24: • Black Oxidized Handle + Original Steel Components • Professional dual-finish style matching corporate brand IDs | E24: • Net Weight：280 g / pc • Gross Weight：427 g / pc • Quantity per Export Carton：40 pcs / carton • Total Carton Gross Weight：17.0 kg • Carton Dimension (L×W×H)：32.5 × 29.5 × 28 cm
A25: MQ071F 17in1 (Pink) | B25: =_xlfn.DISPIMG("ID_6E9B70E544A742EBACF2CA45470597A6",1) -> =DISPIMG("ID_6E9B70E544A742EBACF2CA45470597A6",1) | C25: • 17-in-1 Cyber-Pink Hardcore Multi-Pliers • Hardcore 18-function spec tailored for specific niche markets • Features premium 5Cr15 steel, rope cutter & full scissors | D25: • Pink Handle + Black Oxidized Components • Highly unique pink & tactical black contrast for market differentiation | E25: • Net Weight：280 g / pc • Gross Weight：427 g / pc • Quantity per Export Carton：40 pcs / carton • Total Carton Gross Weight：17.0 kg • Carton Dimension (L×W×H)：32.5 × 29.5 × 28 cm
A26: MQ088 16in1（Black） | B26: =_xlfn.DISPIMG("ID_E272994AFB2E4B7FA4A7EFA4DEF9E039",1) -> =DISPIMG("ID_E272994AFB2E4B7FA4A7EFA4DEF9E039",1) | C26: • 16-in-1 Tactical EDC Pro Multi-Pliers • Core: 5Cr15 Blade & Scissors + 2Cr13 Head • Features Replaceable Pliers, Saw & Metal File (with Reverse Ruler) | D26: • Two-Tone: Sandblasted Components + Black Handle • Striking visual contrast with non-reflective matte finish | E26: • Net Weight：276 g / pc • Gross Weight：423 g / pc • Quantity per Export Carton：40 pcs / carton • Total Carton Gross Weight：16.8 kg • Carton Dimension (L×W×H)：32.5 × 29.5 × 28 cm
A27: MQ089 16in1（Black） | B27: =_xlfn.DISPIMG("ID_4A5C0A716535405592638E78B250E50F",1) -> =DISPIMG("ID_4A5C0A716535405592638E78B250E50F",1) | C27: • 16-in-1 Streamlined Tactical EDC Pliers • Core: 5Cr15 Blade & Full Scissors with Hanging Hole • Features Multi-Drivers, Saw, Threading Hole & Professional Reamer | D27: • Two-Tone: Sandblasted Components + Black Handle • Striking visual contrast with non-reflective matte finish | E27: • Net Weight：276 g / pc • Gross Weight：423 g / pc • Quantity per Export Carton：40 pcs / carton • Total Carton Gross Weight：16.8 kg • Carton Dimension (L×W×H)：32.5 × 29.5 × 28 cm
A28: MQ007-8 13in1 (Black) | B28: =_xlfn.DISPIMG("ID_723B20CF3838476AAF4F35780A04F345",1) -> =DISPIMG("ID_723B20CF3838476AAF4F35780A04F345",1) | C28: • 13-in-1 Classic Essential Multi-Pliers • Core: 5Cr15 Blade & Scissors / 5Cr15 • Streamlined essential functions, ultra-cost-effective for mass wholesale | D28: • Black • Black oxidized ss handle & components | E28: • Net Weight：340 g / pc • Gross Weight：480 g / pc • Quantity per Export Carton：40 pcs / carton • Total Carton Gross Weight：19.2 kg • Carton Dimension (L×W×H)：32.5 × 29.5 × 28 cm | F28: Compact & Entry-level 轻量实用/入门经典
A29: MULTI-FUNCTIONAL TOOL (AXE)
A30: MQ048F 15in1 (Red & Black) | B30: =_xlfn.DISPIMG("ID_FE45561A5702428CB75BC3E4D1E8E0F3",1) -> =DISPIMG("ID_FE45561A5702428CB75BC3E4D1E8E0F3",1) | C30: • 15-in-1 Heavy-Duty Tactical Multi-Functional Axe • Core: Premium 3Cr13 Steel Components & 2Cr13 Pliers • Features Hammer, Axe, Wood Saw, Survival Fire Starter & Whistle | D30: • Two-Tone: Tactical Red & Black Anodized Aluminium Handle • Non-reflective black oxidized finish on all stainless steel tools | E30: • Net Weight: 440.9 g / pc • Gross Weight: 490 g / pc • Single Package Dimension: 18 × 10 × 3 cm • Quantity per Export Carton: 36 pcs / carton • Total Carton Gross Weight: 18.1 kg • Carton Dimension (L×W×H): 38 × 32.5 × 20 cm | F30: Heavy-Duty & Full-Feature 硬核战术与丛林生存系列
A31: MQ048F 15in1 (Solid black) | B31: =_xlfn.DISPIMG("ID_E9139C485F704B0D85884A12506AB381",1) -> =DISPIMG("ID_E9139C485F704B0D85884A12506AB381",1) | C31: • 15-in-1 Heavy-Duty Tactical Multi-Functional Axe • Core: Premium 3Cr13 Steel Components & 2Cr13 Pliers • Features Hammer, Axe, Wood Saw, Survival Fire Starter & Whistle | D31: • Monolithic: Solid Black Oxidized Aluminium Handle • Full uniform non-reflective black oxidized coating across all components | E31: • Net Weight: 440.9 g / pc • Gross Weight: 490 g / pc • Single Package Dimension: 18 × 10 × 3 cm • Quantity per Export Carton: 36 pcs / carton • Total Carton Gross Weight: 18.1 kg • Carton Dimension (L×W×H): 38 × 32.5 × 20 cm
A32: MS019-3 14in1 (Solid black) | B32: =_xlfn.DISPIMG("ID_3E5AF81171EA432292A5674AB18E9098",1) -> =DISPIMG("ID_3E5AF81171EA432292A5674AB18E9098",1) | C32: • 14-in-1 Advanced Integration Multi-Functional Survival Axe • Core: High-Strength 3Cr13 Steel & 2Cr13 Hammer Head • Features Tactical Axe, Impact Hammer, Deployment Pliers & Wood Saw | D32: • Tactical Styling: Solid Black Oxidized Aluminium Handle • 100% full-body non-reflective black oxidized treatment across all tools | E32: • Net Weight: 394 g / pc • Gross Weight: 502 g / pc • Single Package Dimension: 18 × 10 × 3 cm • Quantity per Export Carton: 36 pcs / carton • Total Carton Gross Weight: 18.4 kg • Carton Dimension (L×W×H): 38 × 32.5 × 20 cm
A33: MS019 12in1 (Black) | B33: =_xlfn.DISPIMG("ID_5A819F76A8F144A598649EFCB8E30EC3",1) -> =DISPIMG("ID_5A819F76A8F144A598649EFCB8E30EC3",1) | C33: • 12-in-1 Compact Multi-Functional Bushcraft Axe • Core: High-Grade 3Cr13 Steel & 2Cr13 Impact Hammer • Features Wood Splitter, Camp Knife, Wood Saw & Multi-Wrench Array | D33: • Two-Tone: Sleek Black Oxidized Handle with Matte Sandblasted tools • Premium black oxidized finish applied specifically to the hammer head | E33: • Net Weight: 394 g / pc • Gross Weight: 441 g / pc • Single Package Dimension: 18 × 10 × 3 cm • Quantity per Export Carton: 36 pcs / carton • Total Carton Gross Weight: 16.0 kg • Carton Dimension (L×W×H): 38 × 32.5 × 20 cm | F33: Tactical & Bushcraft 专业野营与极限越野系列
A34: MS019 12in1 (Wood Grain) | B34: =_xlfn.DISPIMG("ID_2C108078270940AF9DD9C014BF558B12",1) -> =DISPIMG("ID_2C108078270940AF9DD9C014BF558B12",1) | C34: • 12-in-1 Compact Multi-Functional Bushcraft Axe • Core: High-Grade 3Cr13 Steel & 2Cr13 Impact Hammer • Features Wood Splitter, Camp Knife, Wood Saw & Multi-Wrench Array | D34: • Organic Texture: Hydro-Dipped Wood Grain Aluminium Handle • Sandblasted tool array with a contrasting black oxidized hammer head | E34: • Net Weight: 394 g / pc • Gross Weight: 441 g / pc • Single Package Dimension: 18 × 10 × 3 cm • Quantity per Export Carton: 36 pcs / carton • Total Carton Gross Weight: 16.0 kg • Carton Dimension (L×W×H): 38 × 32.5 × 20 cm
A35: MS019 12in1 (Silver) | B35: =_xlfn.DISPIMG("ID_1FAB70A6D24446A4B2B8895FEC367C55",1) -> =DISPIMG("ID_1FAB70A6D24446A4B2B8895FEC367C55",1) | C35: • 12-in-1 Compact Multi-Functional Bushcraft Axe • Core: High-Grade 3Cr13 Steel & 2Cr13 Impact Hammer • Features Wood Splitter, Camp Knife, Wood Saw & Multi-Wrench Array | D35: • Classic Aesthetic: Premium Clear Anodized Aluminium Handle • Matte sandblasted components balanced by a black oxidized hammer head | E35: • Net Weight: 394 g / pc • Gross Weight: 441 g / pc • Single Package Dimension: 18 × 10 × 3 cm • Quantity per Export Carton: 36 pcs / carton • Total Carton Gross Weight: 16.0 kg • Carton Dimension (L×W×H): 38 × 32.5 × 20 cm
A36: MS019-4 10in1 (Red) | B36: =_xlfn.DISPIMG("ID_C0D68A5AC89540809963008C88442F70",1) -> =DISPIMG("ID_C0D68A5AC89540809963008C88442F70",1) | C36: • 10-in-1 Streamlined Multi-Functional Camp Axe • Core: Premium 3Cr13 Steel & 2Cr13 Impact Hammer Head • Features Splitting Axe, Camp Knife, Outdoor Wood Saw & CRV Bits Kit | D36: • High-Visibility: Vibrant Red Anodized Aluminium Handle • Matte black oxidized treatment on all steel implements and hammer head | E36: • Net Weight: 394 g / pc • Gross Weight: 441 g / pc • Single Package Dimension: 18 × 10 × 3 cm • Quantity per Export Carton: 36 pcs / carton • Total Carton Gross Weight: 16.0 kg • Carton Dimension (L×W×H): 38 × 32.5 × 20 cm | F36: Tactical EDC & Commuting 全能日常与高效自驾系列
A37: MS019-4 10in1 (Solid black) | B37: =_xlfn.DISPIMG("ID_6C91ABA549284FD5945A1BE488CAB237",1) -> =DISPIMG("ID_6C91ABA549284FD5945A1BE488CAB237",1) | C37: • 10-in-1 Streamlined Multi-Functional Camp Axe • Core: Premium 3Cr13 Steel & 2Cr13 Impact Hammer Head • Features Splitting Axe, Camp Knife, Outdoor Wood Saw & CRV Bits Kit | D37: • Low-Profile: Tactical Black Anodized Aluminium Handle • Full uniform black oxidized finish on all stainless steel implements | E37: • Net Weight: 394 g / pc • Gross Weight: 441 g / pc • Single Package Dimension: 18 × 10 × 3 cm • Quantity per Export Carton: 36 pcs / carton • Total Carton Gross Weight: 16.0 kg • Carton Dimension (L×W×H): 38 × 32.5 × 20 cm
A38: MA031 13in1 (Solid black) | B38: =_xlfn.DISPIMG("ID_3AD5524710324BDBB17786E5CA8BBD8F",1) -> =DISPIMG("ID_3AD5524710324BDBB17786E5CA8BBD8F",1) | C38: • 13-in-1 Professional Extended-Reach Long Multi-Axe • Core: Premium 3Cr13 Steel & 2Cr13 Heavy Hammer Head • Features Extended-Lever Axe, Wood Saw, Camp Knife & Survival Whistle | D38: • Deep-Wilderness: Solid Extended Black Anodized Aluminium Handle • Full matte black oxidized treatment on the extended steel structures | E38: • Net Weight: 439 g / pc • Gross Weight: 526 g / pc • Single Package Dimension: 26 × 12 × 3 cm • Quantity per Export Carton: TBD • Total Carton Gross Weight: TBD • Carton Dimension (L×W×H): TBD | F38: Heavy-Duty Long Handle 长柄破障与重装特化系列
A39: MA031-5 14in1 (Red) | B39: =_xlfn.DISPIMG("ID_A628FAEBD14B432BA63ACD68CEB09E86",1) -> =DISPIMG("ID_A628FAEBD14B432BA63ACD68CEB09E86",1) | C39: • 14-in-1 Professional Extended-Reach Long Multi-Axe • Core: Premium 3Cr13 Steel & 2Cr13 Heavy Hammer Head • Features Extended Axe, Wood Saw, Camp Knife, Whistle & Nail File | D39: • High-Visibility: Extended Crimson Red Anodized Aluminium Handle • Contrasting deep matte black oxidized treatment on the long axe head | E39: • Net Weight: 439 g / pc • Gross Weight: 526 g / pc • Single Package Dimension: 26 × 12 × 3 cm • Quantity per Export Carton: TBD • Total Carton Gross Weight: TBD • Carton Dimension (L×W×H): TBD
A40: MULTI-FUNCTIONAL TOOL (HAMMER)
A41: MS017-3S 15in1 (Solid black) | B41: =_xlfn.DISPIMG("ID_B460FF2EFB3941A78AEEB3E697470380",1) -> =DISPIMG("ID_B460FF2EFB3941A78AEEB3E697470380",1) | C41: • 15-in-1 Heavy-Duty Multi-Functional Claw Hammer • Core: Premium 3Cr13 Steel Components & 2Cr13 Pliers/Hammer • Features Impact Claw Hammer, Needle-Nose Pliers, Wire Cutter & CRV Bits Kit | D41: • Stealth Profile: Solid Black Anodized Aluminium Handle • High-durability non-reflective black oxidized treatment on hammer & tools | E41: • Net Weight: 830 g / pc • Gross Weight: 431 g / pc • Single Package Dimension: 18 × 10 × 3 cm • Quantity per Export Carton: 36 pcs / carton • Total Carton Gross Weight: 16.2 kg • Carton Dimension (L×W×H): 38 × 32.5 × 20 cm | F41: Heavy-Duty Tactical & Daily Maintenance 硬核战术与日常检修系列
A42: MS017-3S 15in1 (Red) | B42: =_xlfn.DISPIMG("ID_FCAC25ABB2A94297832D73B832378254",1) -> =DISPIMG("ID_FCAC25ABB2A94297832D73B832378254",1) | C42: • 15-in-1 Heavy-Duty Multi-Functional Claw Hammer • Core: Premium 3Cr13 Steel Components & 2Cr13 Pliers/Hammer • Features Impact Claw Hammer, Needle-Nose Pliers, Wire Cutter & CRV Bits Kit | D42: • High-Visibility: Vibrant Red Anodized Aluminium Handle • Uniform non-reflective black oxidized coating on hammer head & inner implements | E42: • Net Weight: 830 g / pc • Gross Weight: 431 g / pc • Single Package Dimension: 18 × 10 × 3 cm • Quantity per Export Carton: 36 pcs / carton • Total Carton Gross Weight: 16.2 kg • Carton Dimension (L×W×H): 38 × 32.5 × 20 cm
A43: MS017-3S 15in1 (Gray) | B43: =_xlfn.DISPIMG("ID_845BDA038B374242AF65F70D81C322F1",1) -> =DISPIMG("ID_845BDA038B374242AF65F70D81C322F1",1) | C43: • 15-in-1 Heavy-Duty Multi-Functional Claw Hammer • Core: Premium 3Cr13 Steel Components & 2Cr13 Pliers/Hammer • Features Impact Claw Hammer, Needle-Nose Pliers, Wire Cutter & CRV Bits Kit | D43: • Industrial Aesthetic: Sleek Gray Anodized Aluminium Handle • Uniform non-reflective black oxidized coating on hammer head & inner implements | E43: • Net Weight: 830 g / pc • Gross Weight: 431 g / pc • Single Package Dimension: 18 × 10 × 3 cm • Quantity per Export Carton: 36 pcs / carton • Total Carton Gross Weight: 16.2 kg • Carton Dimension (L×W×H): 38 × 32.5 × 20 cm
A44: MQ042 14in1 (Black) | B44: =_xlfn.DISPIMG("ID_E590D2545938451C882EC0AD53BA3A0C",1) -> =DISPIMG("ID_E590D2545938451C882EC0AD53BA3A0C",1) | C44: • 14-in-1 Balanced Tactical Multi-Functional Claw Hammer • Core: Premium 3Cr13 Implements & 2Cr13 Stainless Steel Hammer Head • Features Integration Wrench, Nail Claw, Fine Metal File & Wood Saw | D44: • Dual Texture: Tactical Black Anodized Aluminium Handle • Premium matte sandblasted inner components paired with a black oxidized hammer head | E44: • Net Weight: 377.8 g / pc • Gross Weight: 424 g / pc • Single Package Dimension: 18 × 10 × 3 cm • Quantity per Export Carton: 36 pcs / carton • Total Carton Gross Weight: 15.0 kg • Carton Dimension (L×W×H): 38 × 32.5 × 20 cm
A45: MQ022 12in1 (Black) | B45: =_xlfn.DISPIMG("ID_88732607ABE04B859EDF3BC6F51AE322",1) -> =DISPIMG("ID_88732607ABE04B859EDF3BC6F51AE322",1) | C45: • 12-in-1 Streamlined Multi-Functional Claw Hammer • Core: High-Strength 3Cr13 Tools & 2Cr13 Pliers/Hammer Assembly • Features Compact Claw Hammer, Survival Knife, Hex Wrench & Integrated CRV Bits | D45: • Low-Profile: Matte Black Anodized Aluminium Handle • Full-body uniform black oxidized rust-resistant treatment across all components | E45: • Net Weight: 393 g / pc • Gross Weight: 439 g / pc • Single Package Dimension: 18 × 10 × 3 cm • Quantity per Export Carton: 36 pcs / carton • Total Carton Gross Weight: 15.0 kg • Carton Dimension (L×W×H): 38 × 32.5 × 20 cm
A46: MQ047 16in1 (Red&Black) | B46: =_xlfn.DISPIMG("ID_25BD4431B68243C08EE67F7D8DE21DE1",1) -> =DISPIMG("ID_25BD4431B68243C08EE67F7D8DE21DE1",1) | C46: • 16-in-1 Professional Fire Rescue & Tactical Survival Hammer • Core: Heavy-Duty 3Cr13 Components & 2Cr13 Pliers/Hammer Assembly • Specially Integrates: Conical Glass Breaker, Seatbelt Cutter & Multi-Hex Wrench | D46: • Rescue Styling: Two-Tone Red & Black Anodized Aluminium Handle • Complete non-reflective black oxidized coating on all tools for tactical use | E46: • Net Weight: 434 g / pc • Gross Weight: 480 g / pc • Single Package Dimension: 18 × 10 × 3 cm • Quantity per Export Carton: 36 pcs / carton • Total Carton Gross Weight: 17.5 kg • Carton Dimension (L×W×H): 38 × 32.5 × 20 cm | F46: Emergency Survival & Fire Rescue 应急生存与消防车载救生系列
A47: MQ047 16in1 (Black) | B47: =_xlfn.DISPIMG("ID_12C7430D1A934DC8BE884A9674C8C4E9",1) -> =DISPIMG("ID_12C7430D1A934DC8BE884A9674C8C4E9",1) | C47: • 16-in-1 Professional Fire Rescue & Tactical Survival Hammer • Core: Heavy-Duty 3Cr13 Components & 2Cr13 Pliers/Hammer Assembly • Specially Integrates: Conical Glass Breaker, Seatbelt Cutter & Multi-Hex Wrench | D47: • Low-Profile: Solid Black Anodized Aluminium Handle • Complete non-reflective black oxidized coating on all tools for tactical use | E47: • Net Weight: 434 g / pc • Gross Weight: 480 g / pc • Single Package Dimension: 18 × 10 × 3 cm • Quantity per Export Carton: 36 pcs / carton • Total Carton Gross Weight: 17.5 kg • Carton Dimension (L×W×H): 38 × 32.5 × 20 cm
A48: MS034-3 17in1 (Solid black) | B48: =_xlfn.DISPIMG("ID_84A03C53B32E4EC6A7B7BD016A240873",1) -> =DISPIMG("ID_84A03C53B32E4EC6A7B7BD016A240873",1) | C48: • 17-in-1 Maximum Integration Fire Rescue Hammer • Core: Heavy-Duty 3Cr13 Components, 2Cr13 Hammer & Pliers Assembly • Features Dual-Head Hammer (Flat + Conical), Seatbelt Cutter, Wrench Array & Extended Bits | D48: • Tactical Grade: Premium Black Anodized Aluminium Handle • 100% full-body non-reflective black oxidized protection across all steel mechanisms | E48: • Net Weight: 447 g / pc • Gross Weight: 493 g / pc • Single Package Dimension: 18 × 10 × 3 cm • Quantity per Export Carton: 36 pcs / carton • Total Carton Gross Weight: 17.82 kg • Carton Dimension (L×W×H): 38 × 32.5 × 20 cm
A49: MS035 13in1 (Solid black) | B49: =_xlfn.DISPIMG("ID_4E588A1210594C6C9C63785313FB5030",1) -> =DISPIMG("ID_4E588A1210594C6C9C63785313FB5030",1) | C49: • 13-in-1 Ultra-Compact Lightweight Multi-Functional Hammer • Core: High-Performance 3Cr13 Steel Tools & 2Cr13 Stainless Steel Hammer • Features Flat-Nose Precision Pliers, Serrated Blade, Double-Tooth Saw & Dual Safety Locks | D49: • Micro-EDC Profile: Matte Black Anodized Aluminium Handle • Uniform black oxidized corrosion-resistant finish on all tool components | E49: • Net Weight: 247.2 g / pc • Gross Weight: 294.4 g / pc • Single Package Dimension: 16 × 9 × 3 cm • Quantity per Export Carton: 40 pcs / carton • Total Carton Gross Weight: 12.5 kg • Carton Dimension (L×W×H): 38.5 × 33.5 × 18 cm | F49: Ultra-Lightweight EDC & Dual-Lock 超轻量EDC与精密双锁系列
A50: MS035B 13in1 (Solid black) | B50: =_xlfn.DISPIMG("ID_28D1B767E4F3441CB7C13E3E3748FB96",1) -> =DISPIMG("ID_28D1B767E4F3441CB7C13E3E3748FB96",1) | C50: • 13-in-1 Ultra-Compact Lightweight Multi-Functional Hammer • Core: High-Performance 3Cr13 Steel Tools & 2Cr13 Stainless Steel Hammer • Features Flat-Nose Precision Pliers, Serrated Blade, Double-Tooth Saw & Dual Safety Locks | D50: • Micro-EDC Profile: Matte Black Anodized Aluminium Handle • Uniform black oxidized corrosion-resistant finish on all tool components | E50: • Net Weight: 247.2 g / pc • Gross Weight: 294.4 g / pc • Single Package Dimension: 16 × 9 × 3 cm • Quantity per Export Carton: 40 pcs / carton • Total Carton Gross Weight: 12.5 kg • Carton Dimension (L×W×H): 38.5 × 33.5 × 18 cm
A51: MQ050 12in1 (Red&Black) | B51: =_xlfn.DISPIMG("ID_FC30AD7F8A384C9993F351446AE3F213",1) -> =DISPIMG("ID_FC30AD7F8A384C9993F351446AE3F213",1) | C51: • 12-in-1 Mechanic Special Multi-Functional Hammer • Core: 3Cr13 Industrial Implements & High-Strength 2Cr13 Hammer/Pliers • Features Heavy-Duty Hammer, Mechanical Wrench, Needle-Nose Pliers & Can Opener | D51: • Industrial Contrast: Two-Tone Red & Black Anodized Aluminium Handle • Selective Finishes: Black oxidized framework paired with sandblasted mechanical inner tools | E51: • Net Weight: 460 g / pc • Gross Weight: 505 g / pc • Single Package Dimension: 18 × 10 × 3 cm • Quantity per Export Carton: 36 pcs / carton • Total Carton Gross Weight: 18.5 kg • Carton Dimension (L×W×H): 38 × 32.5 × 20 cm | F51: Specialized Mechanical Utility 机械特化与多能扳手系列
A52: MS041 11in1 (Solid black) | B52: =_xlfn.DISPIMG("ID_3A8244E7713B4348810D73525ED87A26",1) -> =DISPIMG("ID_3A8244E7713B4348810D73525ED87A26",1) | C52: • 11-in-1 Extended-Reach Long Multi-Functional Hammer • Core: High-Grade 3Cr13 Components & 2Cr13 Structural Hammer Head • Features Extended-Lever Hammer, Survival Fire Starter, High-Decibel Whistle & Utility Hook | D52: • Deep Wilderness: Extended Matte Black Anodized Aluminium Handle • Complete uniform black oxidized finish on the heavy-duty hammer head & steel components | E52: • Net Weight: 474 g / pc • Gross Weight: 556 g / pc • Single Package Dimension: 26 × 12 × 3 cm • Quantity per Export Carton: TBD (To Be Determined) • Total Carton Gross Weight: TBD • Carton Dimension (L×W×H): TBD | F52: eavy-Duty Long Handle & Wilderness Pioneer 长柄拓荒与野外生存系列
A53: MS041 11in1 (Red) | B53: =_xlfn.DISPIMG("ID_45D1345846054B4B83AB4A88CF9C814C",1) -> =DISPIMG("ID_45D1345846054B4B83AB4A88CF9C814C",1) | C53: • 11-in-1 Extended-Reach Long Multi-Functional Hammer • Core: High-Grade 3Cr13 Components & 2Cr13 Structural Hammer Head • Features Extended-Lever Hammer, Survival Fire Starter, High-Decibel Whistle & Utility Hook | D53: • Emergency Signal: Extended Crimson Red Anodized Aluminium Handle • Contrasting matte black oxidized treatment applied to the heavy long steel hammer head | E53: • Net Weight: 474 g / pc • Gross Weight: 556 g / pc • Single Package Dimension: 26 × 12 × 3 cm • Quantity per Export Carton: TBD (To Be Determined) • Total Carton Gross Weight: TBD • Carton Dimension (L×W×H): TBD
A54: MULTI-FUNCTIONAL TOOL (WRENCH)
A55: MQ024 10in1 (Black) | B55: =_xlfn.DISPIMG("ID_6746FC57FA9F4CE2833759EEC9E00475",1) -> =DISPIMG("ID_6746FC57FA9F4CE2833759EEC9E00475",1) | C55: • 10-in-1 Essential Mechanical Utility Wrench • Core: Premium 3Cr13 Tools & 2Cr13 Structural Wrench • Features: 6-Inch Adjustable Wrench, Needle-Nose Pliers, Wire Cutter, CRV Bits & Bottle Opener | D55: • Low-Profile: Tactical Black Anodized Aluminium Handle • Full uniform black oxidized finish on all stainless steel implements | E55: • Net Weight: 363 g / pc • Gross Weight: 409 g / pc • Single Package Dimension: 18 × 10 × 3 cm • Quantity per Export Carton: 36 pcs / carton • Total Carton Gross Weight: 14.83 kg • Carton Dimension (L×W×H): 380 × 325 × 200 mm | F55: Essential Mechanical Utility Series
A56: MQ044 14in1 (Black) | B56: =_xlfn.DISPIMG("ID_7DDF75443869475E823BBADEF37BAA1E",1) -> =DISPIMG("ID_7DDF75443869475E823BBADEF37BAA1E",1) | C56: • 14-in-1 Tactical Outdoor & Emergency Survival Wrench • Core: High-Grade 3Cr13 Steel & 2Cr13 Impact Wrench Jaw • Features Wood Saw, Survival Fire Starter, High-Decibel Whistle & CRV Bits Kit | D56: • Low-Profile: Tactical Black Anodized Aluminium Handle • Full uniform black oxidized finish on all stainless steel implements | E56: • Net Weight: 359 g / pc • Gross Weight: 405 g / pc • Single Package Dimension: 18 × 10 × 3 cm • Quantity per Export Carton: 36 pcs / carton • Total Carton Gross Weight: 15.00 kg • Carton Dimension (L×W×H): 380 × 325 × 200 mm | F56: Tactical Outdoor & Emergency Survival Series
A57: MS014-3 13in1 (Black) | B57: =_xlfn.DISPIMG("ID_C406BB8E38ED41DD9CC9B3764BDC700F",1) -> =DISPIMG("ID_C406BB8E38ED41DD9CC9B3764BDC700F",1) | C57: • 13-in-1 Professional Maximum Fastening Special Wrench • Core: Premium 3Cr13 Steel Components & 2Cr13 Hardware Wrench Core • Features 5-Piece Folding Hexagonal Wrench Array, Wood Saw, Knife & CRV Bits Group | D57: • Low-Profile: Tactical Black Anodized Aluminium Handle • Full uniform black oxidized finish on all stainless steel implements | E57: • Net Weight: 362 g / pc • Gross Weight: 409 g / pc • Single Package Dimension: 18 × 10 × 3 cm • Quantity per Export Carton: 36 pcs / carton • Total Carton Gross Weight: 15.20 kg • Carton Dimension (L×W×H): 380 × 325 × 200 mm | F57: Maximum Fastening & Hardware Special Series
